Package: arrayQuality Version: 1.84.0 Command: /Library/Frameworks/R.framework/Resources/bin/R CMD check --install=check:arrayQuality.install-out.txt --library=/Library/Frameworks/R.framework/Resources/library --no-vignettes --timings arrayQuality_1.84.0.tar.gz StartedAt: 2025-02-04 11:30:45 -0500 (Tue, 04 Feb 2025) EndedAt: 2025-02-04 11:31:26 -0500 (Tue, 04 Feb 2025) EllapsedTime: 41.6 seconds RetCode: 0 Status: WARNINGS CheckDir: arrayQuality.Rcheck Warnings: 1