Package: arrayMvout Version: 1.64.0 Command: /home/biocbuild/R/R/bin/R CMD INSTALL arrayMvout StartedAt: 2025-02-03 21:22:21 -0000 (Mon, 03 Feb 2025) EndedAt: 2025-02-03 21:23:21 -0000 (Mon, 03 Feb 2025) EllapsedTime: 59.8 seconds RetCode: 0 Status: OK