Package: arrayMvout Version: 1.64.0 Command: /home/biocbuild/R/R/bin/R CMD check --install=check:arrayMvout.install-out.txt --library=/home/biocbuild/R/R/site-library --no-vignettes --timings arrayMvout_1.64.0.tar.gz StartedAt: 2025-02-04 04:24:00 -0000 (Tue, 04 Feb 2025) EndedAt: 2025-02-04 04:32:08 -0000 (Tue, 04 Feb 2025) EllapsedTime: 488.1 seconds RetCode: 0 Status: OK CheckDir: arrayMvout.Rcheck Warnings: 0