Package: arrayMvout Version: 1.64.0 Command: /home/biocbuild/R/R/bin/R CMD build --keep-empty-dirs --no-resave-data arrayMvout StartedAt: 2025-03-31 21:22:38 -0000 (Mon, 31 Mar 2025) EndedAt: 2025-03-31 21:23:56 -0000 (Mon, 31 Mar 2025) EllapsedTime: 78.0 seconds RetCode: 0 Status: OK PackageFile: arrayMvout_1.64.0.tar.gz PackageFileSize: 684.6 KiB