Package: appreci8R Version: 1.24.0 Command: /home/biocbuild/R/R/bin/R CMD check --install=check:appreci8R.install-out.txt --library=/home/biocbuild/R/R/site-library --no-vignettes --timings appreci8R_1.24.0.tar.gz StartedAt: 2025-01-28 04:38:15 -0000 (Tue, 28 Jan 2025) EndedAt: 2025-01-28 04:45:25 -0000 (Tue, 28 Jan 2025) EllapsedTime: 429.8 seconds RetCode: 0 Status: OK CheckDir: appreci8R.Rcheck Warnings: 0