Package: appreci8R Version: 1.24.0 Command: /home/biocbuild/R/R/bin/R CMD build --keep-empty-dirs --no-resave-data appreci8R StartedAt: 2025-03-31 21:22:16 -0000 (Mon, 31 Mar 2025) EndedAt: 2025-03-31 21:25:42 -0000 (Mon, 31 Mar 2025) EllapsedTime: 205.1 seconds RetCode: 0 Status: OK PackageFile: appreci8R_1.24.0.tar.gz PackageFileSize: 1004 KiB