Package: appreci8R Version: 1.24.0 Command: rm -rf appreci8R.buildbin-libdir && mkdir appreci8R.buildbin-libdir && F:\biocbuild\bbs-3.20-bioc\R\bin\R.exe CMD INSTALL --build --library=appreci8R.buildbin-libdir appreci8R_1.24.0.tar.gz StartedAt: 2025-01-28 07:38:56 -0500 (Tue, 28 Jan 2025) EndedAt: 2025-01-28 07:40:36 -0500 (Tue, 28 Jan 2025) EllapsedTime: 100.3 seconds RetCode: 0 Status: OK PackageFile: appreci8R_1.24.0.zip PackageFileSize: 1.332 MiB