Package: appreci8R Version: 1.24.0 Command: /Library/Frameworks/R.framework/Resources/bin/R CMD build --keep-empty-dirs --no-resave-data appreci8R StartedAt: 2025-03-31 16:54:49 -0400 (Mon, 31 Mar 2025) EndedAt: 2025-03-31 17:00:31 -0400 (Mon, 31 Mar 2025) EllapsedTime: 341.8 seconds RetCode: 0 Status: OK PackageFile: appreci8R_1.24.0.tar.gz PackageFileSize: 1012 KiB