Package: appreci8R Version: 1.24.0 Command: /Library/Frameworks/R.framework/Resources/bin/R CMD INSTALL appreci8R StartedAt: 2025-01-30 18:07:28 -0500 (Thu, 30 Jan 2025) EndedAt: 2025-01-30 18:09:08 -0500 (Thu, 30 Jan 2025) EllapsedTime: 100.0 seconds RetCode: 0 Status: OK