Package: appreci8R Version: 1.24.0 Command: /Library/Frameworks/R.framework/Resources/bin/R CMD check --install=check:appreci8R.install-out.txt --library=/Library/Frameworks/R.framework/Resources/library --no-vignettes --timings appreci8R_1.24.0.tar.gz StartedAt: 2025-01-31 11:08:47 -0500 (Fri, 31 Jan 2025) EndedAt: 2025-01-31 11:15:21 -0500 (Fri, 31 Jan 2025) EllapsedTime: 394.5 seconds RetCode: 0 Status: OK CheckDir: appreci8R.Rcheck Warnings: 0