Package: appreci8R Version: 1.24.0 Command: /Library/Frameworks/R.framework/Resources/bin/R CMD build --keep-empty-dirs --no-resave-data appreci8R StartedAt: 2025-03-31 18:44:13 -0400 (Mon, 31 Mar 2025) EndedAt: 2025-03-31 18:47:51 -0400 (Mon, 31 Mar 2025) EllapsedTime: 217.9 seconds RetCode: 0 Status: OK PackageFile: appreci8R_1.24.0.tar.gz PackageFileSize: 1012 KiB