Package: appreci8R Version: 1.24.0 Command: rm -rf appreci8R.buildbin-libdir && mkdir appreci8R.buildbin-libdir && /Users/biocbuild/BBS/utils/build-universal.sh appreci8R_1.24.0.tar.gz /Library/Frameworks/R.framework/Resources/bin/R appreci8R.buildbin-libdir StartedAt: 2025-04-02 13:18:52 -0400 (Wed, 02 Apr 2025) EndedAt: 2025-04-02 13:20:41 -0400 (Wed, 02 Apr 2025) EllapsedTime: 109.0 seconds RetCode: 0 Status: OK PackageFile: appreci8R_1.24.0.tgz PackageFileSize: 1.448 MiB