Package: apeglm Version: 1.28.0 Command: /home/biocbuild/R/R/bin/R CMD INSTALL apeglm StartedAt: 2025-02-03 20:46:39 -0000 (Mon, 03 Feb 2025) EndedAt: 2025-02-03 20:47:52 -0000 (Mon, 03 Feb 2025) EllapsedTime: 73.5 seconds RetCode: 0 Status: OK