Package: apeglm Version: 1.28.0 Command: /home/biocbuild/R/R/bin/R CMD check --install=check:apeglm.install-out.txt --library=/home/biocbuild/R/R/site-library --no-vignettes --timings apeglm_1.28.0.tar.gz StartedAt: 2025-01-28 04:38:04 -0000 (Tue, 28 Jan 2025) EndedAt: 2025-01-28 04:41:34 -0000 (Tue, 28 Jan 2025) EllapsedTime: 209.4 seconds RetCode: 0 Status: WARNINGS CheckDir: apeglm.Rcheck Warnings: 1