Package: apeglm Version: 1.28.0 Command: /home/biocbuild/R/R/bin/R CMD build --keep-empty-dirs --no-resave-data apeglm StartedAt: 2025-02-03 21:37:27 -0000 (Mon, 03 Feb 2025) EndedAt: 2025-02-03 21:39:42 -0000 (Mon, 03 Feb 2025) EllapsedTime: 135.0 seconds RetCode: 0 Status: OK PackageFile: apeglm_1.28.0.tar.gz PackageFileSize: 782.8 KiB