Package: apeglm Version: 1.28.0 Command: F:\biocbuild\bbs-3.20-bioc\R\bin\R.exe CMD INSTALL apeglm StartedAt: 2025-03-31 15:51:16 -0400 (Mon, 31 Mar 2025) EndedAt: 2025-03-31 15:53:16 -0400 (Mon, 31 Mar 2025) EllapsedTime: 120.2 seconds RetCode: 0 Status: OK