Package: apeglm Version: 1.28.0 Command: chmod a+r apeglm -R && F:\biocbuild\bbs-3.20-bioc\R\bin\R.exe CMD build --keep-empty-dirs --no-resave-data apeglm StartedAt: 2025-03-31 17:22:17 -0400 (Mon, 31 Mar 2025) EndedAt: 2025-03-31 17:24:36 -0400 (Mon, 31 Mar 2025) EllapsedTime: 138.2 seconds RetCode: 0 Status: OK PackageFile: apeglm_1.28.0.tar.gz PackageFileSize: 447 KiB