Package: apeglm Version: 1.28.0 Command: /home/biocbuild/bbs-3.20-bioc/R/bin/R CMD INSTALL apeglm StartedAt: 2025-03-31 15:29:11 -0400 (Mon, 31 Mar 2025) EndedAt: 2025-03-31 15:30:05 -0400 (Mon, 31 Mar 2025) EllapsedTime: 53.6 seconds RetCode: 0 Status: OK