Package: apeglm Version: 1.28.0 Command: /Library/Frameworks/R.framework/Resources/bin/R CMD check --install=check:apeglm.install-out.txt --library=/Library/Frameworks/R.framework/Resources/library --no-vignettes --timings apeglm_1.28.0.tar.gz StartedAt: 2025-03-31 23:22:42 -0400 (Mon, 31 Mar 2025) EndedAt: 2025-03-31 23:28:57 -0400 (Mon, 31 Mar 2025) EllapsedTime: 374.9 seconds RetCode: 0 Status: OK CheckDir: apeglm.Rcheck Warnings: 0