Package: apeglm Version: 1.28.0 Command: /Library/Frameworks/R.framework/Resources/bin/R CMD build --keep-empty-dirs --no-resave-data apeglm StartedAt: 2025-03-31 16:54:41 -0400 (Mon, 31 Mar 2025) EndedAt: 2025-03-31 16:58:15 -0400 (Mon, 31 Mar 2025) EllapsedTime: 214.1 seconds RetCode: 0 Status: OK PackageFile: apeglm_1.28.0.tar.gz PackageFileSize: 1.265 MiB