Package: apeglm Version: 1.28.0 Command: rm -rf apeglm.buildbin-libdir && mkdir apeglm.buildbin-libdir && /Users/biocbuild/BBS/utils/build-universal.sh apeglm_1.28.0.tar.gz /Library/Frameworks/R.framework/Resources/bin/R apeglm.buildbin-libdir StartedAt: 2025-04-01 11:25:10 -0400 (Tue, 01 Apr 2025) EndedAt: 2025-04-01 11:27:02 -0400 (Tue, 01 Apr 2025) EllapsedTime: 112.2 seconds RetCode: 0 Status: OK PackageFile: apeglm_1.28.0.tgz PackageFileSize: 1.4 MiB