Package: apComplex Version: 2.72.0 Command: /home/biocbuild/bbs-3.20-bioc/R/bin/R CMD INSTALL apComplex StartedAt: 2025-03-31 15:25:27 -0400 (Mon, 31 Mar 2025) EndedAt: 2025-03-31 15:25:40 -0400 (Mon, 31 Mar 2025) EllapsedTime: 13.2 seconds RetCode: 0 Status: OK