Package: apComplex Version: 2.72.0 Command: /Library/Frameworks/R.framework/Resources/bin/R CMD build --keep-empty-dirs --no-resave-data apComplex StartedAt: 2025-01-27 17:03:50 -0500 (Mon, 27 Jan 2025) EndedAt: 2025-01-27 17:04:46 -0500 (Mon, 27 Jan 2025) EllapsedTime: 56.0 seconds RetCode: 0 Status: OK PackageFile: apComplex_2.72.0.tar.gz PackageFileSize: 627.2 KiB