Package: apComplex Version: 2.72.0 Command: /Library/Frameworks/R.framework/Resources/bin/R CMD check --install=check:apComplex.install-out.txt --library=/Library/Frameworks/R.framework/Resources/library --no-vignettes --timings apComplex_2.72.0.tar.gz StartedAt: 2025-02-04 11:25:37 -0500 (Tue, 04 Feb 2025) EndedAt: 2025-02-04 11:27:42 -0500 (Tue, 04 Feb 2025) EllapsedTime: 125.3 seconds RetCode: 0 Status: OK CheckDir: apComplex.Rcheck Warnings: 0