Package: antiProfiles Version: 1.46.0 Command: rm -rf antiProfiles.buildbin-libdir && mkdir antiProfiles.buildbin-libdir && F:\biocbuild\bbs-3.20-bioc\R\bin\R.exe CMD INSTALL --build --library=antiProfiles.buildbin-libdir antiProfiles_1.46.0.tar.gz StartedAt: 2025-04-01 07:40:17 -0400 (Tue, 01 Apr 2025) EndedAt: 2025-04-01 07:40:42 -0400 (Tue, 01 Apr 2025) EllapsedTime: 24.3 seconds RetCode: 0 Status: OK PackageFile: antiProfiles_1.46.0.zip PackageFileSize: 270.5 KiB