Package: antiProfiles Version: 1.46.0 Command: /Library/Frameworks/R.framework/Resources/bin/R CMD INSTALL antiProfiles StartedAt: 2025-01-30 15:09:56 -0500 (Thu, 30 Jan 2025) EndedAt: 2025-01-30 15:10:17 -0500 (Thu, 30 Jan 2025) EllapsedTime: 20.5 seconds RetCode: 0 Status: OK