Package: antiProfiles Version: 1.46.0 Command: /Library/Frameworks/R.framework/Resources/bin/R CMD build --keep-empty-dirs --no-resave-data antiProfiles StartedAt: 2025-03-31 18:42:48 -0400 (Mon, 31 Mar 2025) EndedAt: 2025-03-31 18:43:01 -0400 (Mon, 31 Mar 2025) EllapsedTime: 12.4 seconds RetCode: 0 Status: OK PackageFile: antiProfiles_1.46.0.tar.gz PackageFileSize: 110.4 KiB