Package: anota2seq Version: 1.28.0 Command: /home/biocbuild/R/R/bin/R CMD INSTALL anota2seq StartedAt: 2025-02-10 20:55:34 -0000 (Mon, 10 Feb 2025) EndedAt: 2025-02-10 20:56:14 -0000 (Mon, 10 Feb 2025) EllapsedTime: 39.9 seconds RetCode: 0 Status: OK