Package: anota Version: 1.54.0 Command: rm -rf anota.buildbin-libdir && mkdir anota.buildbin-libdir && F:\biocbuild\bbs-3.20-bioc\R\bin\R.exe CMD INSTALL --build --library=anota.buildbin-libdir anota_1.54.0.tar.gz StartedAt: 2025-01-31 08:08:42 -0500 (Fri, 31 Jan 2025) EndedAt: 2025-01-31 08:09:04 -0500 (Fri, 31 Jan 2025) EllapsedTime: 21.7 seconds RetCode: 0 Status: OK PackageFile: anota_1.54.0.zip PackageFileSize: 601.4 KiB