Package: anota Version: 1.54.0 Command: /Library/Frameworks/R.framework/Resources/bin/R CMD check --install=check:anota.install-out.txt --library=/Library/Frameworks/R.framework/Resources/library --no-vignettes --timings anota_1.54.0.tar.gz StartedAt: 2025-04-01 10:47:09 -0400 (Tue, 01 Apr 2025) EndedAt: 2025-04-01 10:48:22 -0400 (Tue, 01 Apr 2025) EllapsedTime: 73.0 seconds RetCode: 0 Status: OK CheckDir: anota.Rcheck Warnings: 0