Package: annotatr Version: 1.32.0 Command: /home/biocbuild/R/R/bin/R CMD INSTALL annotatr StartedAt: 2025-03-31 20:33:35 -0000 (Mon, 31 Mar 2025) EndedAt: 2025-03-31 20:34:28 -0000 (Mon, 31 Mar 2025) EllapsedTime: 52.6 seconds RetCode: 0 Status: OK