Package: annotatr Version: 1.32.0 Command: /Library/Frameworks/R.framework/Resources/bin/R CMD check --install=check:annotatr.install-out.txt --library=/Library/Frameworks/R.framework/Resources/library --no-vignettes --timings annotatr_1.32.0.tar.gz StartedAt: 2025-03-31 23:19:38 -0400 (Mon, 31 Mar 2025) EndedAt: 2025-03-31 23:30:22 -0400 (Mon, 31 Mar 2025) EllapsedTime: 644.2 seconds RetCode: 0 Status: OK CheckDir: annotatr.Rcheck Warnings: 0