Package: annotationTools Version: 1.80.0 Command: /home/biocbuild/bbs-3.20-bioc/R/bin/R CMD check --install=check:annotationTools.install-out.txt --library=/home/biocbuild/bbs-3.20-bioc/R/site-library --timings annotationTools_1.80.0.tar.gz StartedAt: 2025-01-30 19:53:08 -0500 (Thu, 30 Jan 2025) EndedAt: 2025-01-30 19:53:36 -0500 (Thu, 30 Jan 2025) EllapsedTime: 28.0 seconds RetCode: 0 Status: OK CheckDir: annotationTools.Rcheck Warnings: 0