Package: annotationTools Version: 1.80.0 Command: /Library/Frameworks/R.framework/Resources/bin/R CMD check --install=check:annotationTools.install-out.txt --library=/Library/Frameworks/R.framework/Resources/library --no-vignettes --timings annotationTools_1.80.0.tar.gz StartedAt: 2025-01-31 00:11:08 -0500 (Fri, 31 Jan 2025) EndedAt: 2025-01-31 00:12:06 -0500 (Fri, 31 Jan 2025) EllapsedTime: 57.6 seconds RetCode: 0 Status: OK CheckDir: annotationTools.Rcheck Warnings: 0