Package: annotationTools Version: 1.80.0 Command: /Library/Frameworks/R.framework/Resources/bin/R CMD check --install=check:annotationTools.install-out.txt --library=/Library/Frameworks/R.framework/Resources/library --no-vignettes --timings annotationTools_1.80.0.tar.gz StartedAt: 2025-02-04 11:19:21 -0500 (Tue, 04 Feb 2025) EndedAt: 2025-02-04 11:19:54 -0500 (Tue, 04 Feb 2025) EllapsedTime: 32.6 seconds RetCode: 0 Status: OK CheckDir: annotationTools.Rcheck Warnings: 0