Package: annotationTools Version: 1.80.0 Command: rm -rf annotationTools.buildbin-libdir && mkdir annotationTools.buildbin-libdir && /Users/biocbuild/BBS/utils/build-universal.sh annotationTools_1.80.0.tar.gz /Library/Frameworks/R.framework/Resources/bin/R annotationTools.buildbin-libdir StartedAt: 2025-04-02 13:17:57 -0400 (Wed, 02 Apr 2025) EndedAt: 2025-04-02 13:18:02 -0400 (Wed, 02 Apr 2025) EllapsedTime: 5.8 seconds RetCode: 0 Status: OK PackageFile: annotationTools_1.80.0.tgz PackageFileSize: 391.4 KiB