Package: annotate Version: 1.84.0 Command: /home/biocbuild/R/R/bin/R CMD build --keep-empty-dirs --no-resave-data annotate StartedAt: 2025-01-27 22:16:55 -0000 (Mon, 27 Jan 2025) EndedAt: 2025-01-27 22:18:13 -0000 (Mon, 27 Jan 2025) EllapsedTime: 78.0 seconds RetCode: 0 Status: OK PackageFile: annotate_1.84.0.tar.gz PackageFileSize: 1.817 MiB