Package: annotate Version: 1.84.0 Command: /home/biocbuild/bbs-3.20-bioc/R/bin/R CMD INSTALL annotate StartedAt: 2025-01-27 16:11:01 -0500 (Mon, 27 Jan 2025) EndedAt: 2025-01-27 16:11:17 -0500 (Mon, 27 Jan 2025) EllapsedTime: 15.7 seconds RetCode: 0 Status: OK