Package: annotate Version: 1.84.0 Command: /home/biocbuild/bbs-3.20-bioc/R/bin/R CMD build --keep-empty-dirs --no-resave-data --md5 annotate StartedAt: 2025-03-31 16:10:07 -0400 (Mon, 31 Mar 2025) EndedAt: 2025-03-31 16:11:08 -0400 (Mon, 31 Mar 2025) EllapsedTime: 61.1 seconds RetCode: 0 Status: OK PackageFile: annotate_1.84.0.tar.gz PackageFileSize: 1.79 MiB