Package: annmap Version: 1.48.0 Command: /home/biocbuild/R/R/bin/R CMD build --keep-empty-dirs --no-resave-data annmap StartedAt: 2025-01-27 22:16:54 -0000 (Mon, 27 Jan 2025) EndedAt: 2025-01-27 22:17:33 -0000 (Mon, 27 Jan 2025) EllapsedTime: 39.0 seconds RetCode: 0 Status: OK PackageFile: annmap_1.48.0.tar.gz PackageFileSize: 1022 KiB