Package: annaffy Version: 1.78.0 Command: rm -rf annaffy.buildbin-libdir && mkdir annaffy.buildbin-libdir && /Users/biocbuild/BBS/utils/build-universal.sh annaffy_1.78.0.tar.gz /Library/Frameworks/R.framework/Resources/bin/R annaffy.buildbin-libdir StartedAt: 2025-04-01 11:24:29 -0400 (Tue, 01 Apr 2025) EndedAt: 2025-04-01 11:25:08 -0400 (Tue, 01 Apr 2025) EllapsedTime: 38.7 seconds RetCode: 0 Status: OK PackageFile: annaffy_1.78.0.tgz PackageFileSize: 700.9 KiB