Package: amplican Version: 1.28.0 Command: chmod a+r amplican -R && F:\biocbuild\bbs-3.20-bioc\R\bin\R.exe CMD build --keep-empty-dirs --no-resave-data amplican StartedAt: 2025-03-31 17:18:44 -0400 (Mon, 31 Mar 2025) EndedAt: 2025-03-31 17:21:42 -0400 (Mon, 31 Mar 2025) EllapsedTime: 177.5 seconds RetCode: 0 Status: OK PackageFile: amplican_1.28.0.tar.gz PackageFileSize: 6.573 MiB