Package: amplican Version: 1.28.0 Command: /home/biocbuild/bbs-3.20-bioc/R/bin/R CMD INSTALL amplican StartedAt: 2025-01-27 16:23:28 -0500 (Mon, 27 Jan 2025) EndedAt: 2025-01-27 16:23:53 -0500 (Mon, 27 Jan 2025) EllapsedTime: 24.6 seconds RetCode: 0 Status: OK