Package: amplican Version: 1.28.0 Command: /Library/Frameworks/R.framework/Resources/bin/R CMD check --install=check:amplican.install-out.txt --library=/Library/Frameworks/R.framework/Resources/library --no-vignettes --timings amplican_1.28.0.tar.gz StartedAt: 2025-01-27 23:51:58 -0500 (Mon, 27 Jan 2025) EndedAt: 2025-01-27 23:58:33 -0500 (Mon, 27 Jan 2025) EllapsedTime: 395.0 seconds RetCode: 0 Status: OK CheckDir: amplican.Rcheck Warnings: 0