Package: altcdfenvs Version: 2.68.0 Command: /home/biocbuild/R/R/bin/R CMD build --keep-empty-dirs --no-resave-data altcdfenvs StartedAt: 2025-01-30 21:29:59 -0000 (Thu, 30 Jan 2025) EndedAt: 2025-01-30 21:30:57 -0000 (Thu, 30 Jan 2025) EllapsedTime: 58.0 seconds RetCode: 0 Status: OK PackageFile: altcdfenvs_2.68.0.tar.gz PackageFileSize: 647.9 KiB