Package: altcdfenvs Version: 2.68.0 Command: F:\biocbuild\bbs-3.20-bioc\R\bin\R.exe CMD check --no-multiarch --install=check:altcdfenvs.install-out.txt --library=F:\biocbuild\bbs-3.20-bioc\R\library --no-vignettes --timings altcdfenvs_2.68.0.tar.gz StartedAt: 2025-02-03 23:05:44 -0500 (Mon, 03 Feb 2025) EndedAt: 2025-02-03 23:07:50 -0500 (Mon, 03 Feb 2025) EllapsedTime: 126.0 seconds RetCode: 0 Status: OK CheckDir: altcdfenvs.Rcheck Warnings: 0