Package: altcdfenvs Version: 2.68.0 Command: rm -rf altcdfenvs.buildbin-libdir && mkdir altcdfenvs.buildbin-libdir && F:\biocbuild\bbs-3.20-bioc\R\bin\R.exe CMD INSTALL --build --library=altcdfenvs.buildbin-libdir altcdfenvs_2.68.0.tar.gz StartedAt: 2025-02-04 07:57:28 -0500 (Tue, 04 Feb 2025) EndedAt: 2025-02-04 07:58:21 -0500 (Tue, 04 Feb 2025) EllapsedTime: 53.4 seconds RetCode: 0 Status: OK PackageFile: altcdfenvs_2.68.0.zip PackageFileSize: 785.1 KiB