Package: alevinQC Version: 1.22.0 Command: rm -rf alevinQC.buildbin-libdir && mkdir alevinQC.buildbin-libdir && F:\biocbuild\bbs-3.20-bioc\R\bin\R.exe CMD INSTALL --build --library=alevinQC.buildbin-libdir alevinQC_1.22.0.tar.gz StartedAt: 2025-04-01 07:39:07 -0400 (Tue, 01 Apr 2025) EndedAt: 2025-04-01 07:39:45 -0400 (Tue, 01 Apr 2025) EllapsedTime: 37.7 seconds RetCode: 0 Status: OK PackageFile: alevinQC_1.22.0.zip PackageFileSize: 7.754 MiB