Package: alevinQC Version: 1.22.0 Command: /Library/Frameworks/R.framework/Resources/bin/R CMD INSTALL alevinQC StartedAt: 2025-03-31 15:53:03 -0400 (Mon, 31 Mar 2025) EndedAt: 2025-03-31 15:53:32 -0400 (Mon, 31 Mar 2025) EllapsedTime: 28.8 seconds RetCode: 0 Status: OK