Package: alabaster Version: 1.6.0 Command: /home/biocbuild/R/R/bin/R CMD INSTALL alabaster StartedAt: 2025-02-03 21:18:45 -0000 (Mon, 03 Feb 2025) EndedAt: 2025-02-03 21:19:43 -0000 (Mon, 03 Feb 2025) EllapsedTime: 57.6 seconds RetCode: 0 Status: OK